Workbook
Name COP: PO!$I$60
Name GFA: SUMMARY!$G$15
Name Total: SUMMARY!$H$73
Name Total2: SUMMARY!$H$98
Name TotalScore: SUMMARY!$J$75

Sheet MixedDevResults
B1: RL | C1: RNL | D1: COM | E1: IND | F1: OTH | G1: Total GFA | H1: Min BS
A2: 1 | B2: 4500 | G2: 4500
A3: =A2+1 -> 2 | B3: 5000 | G3: 5000 | H3: 54
A4: =A3+1 -> 3 | B4: 20000 | G4: 20000 | H4: 54
A5: =A4+1 -> 4 | B5: 25000 | G5: 25000 | H5: 57
A6: =A5+1 -> 5 | C6: 4500 | G6: 4500
A7: =A6+1 -> 6 | C7: 5000 | G7: 5000 | H7: 60
A8: =A7+1 -> 7 | C8: 20000 | G8: 20000 | H8: 60
A9: =A8+1 -> 8 | C9: 25000 | G9: 25000 | H9: 63
A10: =A9+1 -> 9 | D10: 4500 | G10: 4500
A11: =A10+1 -> 10 | D11: 5000 | G11: 5000 | H11: 67
A12: =A11+1 -> 11 | D12: 20000 | G12: 20000 | H12: 67
A13: =A12+1 -> 12 | D13: 25000 | G13: 25000 | H13: 70
A14: =A13+1 -> 13 | E14: 4500 | G14: 4500
A15: =A14+1 -> 14 | E15: 5000 | G15: 5000 | H15: 69
A16: =A15+1 -> 15 | E16: 20000 | G16: 20000 | H16: 69
A17: =A16+1 -> 16 | E17: 25000 | G17: 25000 | H17: 72
A18: =A17+1 -> 17 | F18: 4500 | G18: 4500
A19: =A18+1 -> 18 | F19: 5000 | G19: 5000 | H19: 66
A20: =A19+1 -> 19 | F20: 20000 | G20: 20000 | H20: 66
A21: =A20+1 -> 20 | F21: 25000 | G21: 25000 | H21: 69
A22: =A21+1 -> 21 | F22: 50000 | G22: 50000 | H22: 69
A23: =A22+1 -> 22 | B23: 2000 | C23: 2500 | G23: 4500
A24: =A23+1 -> 23 | C24: 2000 | D24: 2500 | G24: 4500
A25: =A24+1 -> 24 | D25: 2000 | E25: 2500 | G25: 4500
A26: =A25+1 -> 25 | E26: 2000 | F26: 2500 | G26: 4500
A27: =A26+1 -> 26 | B27: 2500 | F27: 2000 | G27: 4500
A28: =A27+1 -> 27 | B28: 2500 | C28: 2500 | G28: 5000 | H28: 57
A29: =A28+1 -> 28 | C29: 2500 | D29: 2500 | G29: 5000 | H29: 63.5
A30: =A29+1 -> 29 | D30: 2500 | E30: 2500 | G30: 5000 | H30: 68
A31: =A30+1 -> 30 | E31: 2500 | F31: 2500 | G31: 5000 | H31: 67.5
A32: =A31+1 -> 31 | B32: 2500 | F32: 2500 | G32: 5000 | H32: 60
A33: =A32+1 -> 32 | B33: 10000 | E33: 15000 | G33: 25000 | H33: 66
A34: =A33+1 -> 33 | C34: 10000 | F34: 15000 | G34: 25000 | H34: 66.6
A35: =A34+1 -> 34 | B35: 15000 | D35: 10000 | G35: 25000 | H35: 62.2
A36: =A35+1 -> 35 | B36: 20000 | C36: 25000 | G36: 45000 | H36: 60.333333
A37: =A36+1 -> 36 | C37: 20000 | D37: 25000 | G37: 45000 | H37: 66.888889
A38: =A37+1 -> 37 | D38: 20000 | E38: 25000 | G38: 45000 | H38: 71.111111
A39: =A38+1 -> 38 | E39: 20000 | F39: 25000 | G39: 45000 | H39: 70.333333
A40: =A39+1 -> 39 | D40: 25000 | F40: 30000 | G40: 55000 | H40: 69.454545
...

Sheet PO
C3: BUILDABILITY SCORE EXTRACTION MODULE
C5: Extract Buildability Score Details : | I5: Single/Mixed Development Area
C7: Project Reference Number: | F7: =SUMMARY!$E6 -> 0 | I7: Residential (landed) : | L7: =SUMMARY!$R9 -> 0
C8: Total Number Of Blocks : | F8: =SUMMARY!$E62 -> 1 | I8: Residential (non - landed) : | L8: =SUMMARY!$R10 -> 0
C9: COP Version : | F9: =SUMMARY!$K$6 -> 2019 | I9: Commercial : | L9: =SUMMARY!$R11 -> 0
C10: BS Version : | F10: =SUMMARY!$L$6 -> BS03 | I10: Industrial : | L10: =SUMMARY!$R12 -> 0
C11: Total GFA: | F11: =SUMMARY!$G$16 -> 0 | G11: m2 | I11: Institutional & Others : | L11: =SUMMARY!$R13 -> 0
C12: Total buildability score: | F12: =TotalScore -> 0 | I12: Total GFA : | L12: =SUMMARY!$G16 -> 0
C13: Required Score: | F13: =IF(F9<=2010,IF(F9=2000,I55,IF(F9=2002,I67,IF(F9=2004,K78,IF(F9=2005,K99,IF(F9=2007,K121,IF(F9=2008,K139)))))),IF(F9=2013,K157,IF(F9=2014,L178,IF(F9=2015,K196,IF(F9=2017,K220,IF(F9=2019,K240)))))) -> 0
C14: Buildability Score Met ? | F14: =IF(ROUND(F12,0) <ROUND(F13,0), "NO","YES") -> YES
I18: Proportionate BS Scores
B19: Blk No/Name | C19: Floor Area | D19: Percentage Of Floor Area | E19: Buildability Score | F19: BS Struct | G19: BS Wall | H19: BS BF | I19: BS Struct | J19: BS Wall | K19: BS BF | L19: Wall System
B20: ='01'!$G$5 -> 01 | C20: =IF('01'!$M$41<>"",'01'!$M$41,"0.00") -> 0.00 | D20: =SUMMARY!$J$66 -> 0 | E20: ='01'!$P$4 -> 0 | F20: ='01'!$M$4 -> 0 | G20: ='01'!$N$4 -> 0 | H20: ='01'!$O$4 -> 0 | I20: =F20*D20 -> 0 | J20: =G20*D20 -> 0 | K20: =H20*D20 -> 0 | L20: =IF('01'!$P$127<>"",'01'!$P$127,"0.00")
B21: =#REF! -> #REF! | C21: =IF(#REF!<>"",#REF!,"0.00") -> #REF! | D21: =SUMMARY!$J$61 -> 0 | E21: =#REF! -> #REF! | F21: =#REF! -> #REF! | G21: =#REF! -> #REF! | H21: =#REF! -> #REF! | I21: =F21*D21 -> #REF! | J21: =G21*D21 -> #REF! | K21: =H21*D21 -> #REF! | L21: =IF(#REF!<>"",#REF!,"0.00") -> #REF!
B23: TOTAL | C23: =SUM(C21:C22) -> #REF! | D23: =SUM(D21:D22) -> 0 | E23: =TotalScore -> 0 | I23: =SUM(I21:I22) -> #REF! | J23: =SUM(J21:J22) -> #REF! | K23: =SUM(K21:K22) -> #REF!
B43: ='B01'!$G$5 -> B01 | C43: =IF('B01'!$M$41<>"",'B01'!$M$41,"0.00") -> 0.00 | D43: =SUMMARY!$J$89 -> 0 | E43: ='B01'!$P$4 -> 0 | F43: ='B01'!$M$4 -> 0 | G43: ='B01'!$N$4 -> 0 | H43: ='B01'!$O$4 -> 0 | I43: =F43*D43 -> 0 | J43: =G43*D43 -> 0 | K43: =H43*D43 -> 0 | L43: =IF('B01'!$P$127<>"",'B01'!$P$127,"0.00")
B44: =#REF! -> #REF! | C44: =IF(#REF!<>"",#REF!,"0.00") -> #REF! | D44: =SUMMARY!$J$90 -> 0 | E44: =#REF! -> #REF! | F44: =#REF! -> #REF! | G44: =#REF! -> #REF! | H44: =#REF! -> #REF! | I44: =F44*D44 -> #REF! | J44: =G44*D44 -> #REF! | K44: =H44*D44 -> #REF! | L44: =IF(#REF!<>"",#REF!,"0.00") -> #REF!
B45: =#REF! -> #REF! | C45: =IF(#REF!<>"",#REF!,"0.00") -> #REF! | D45: =SUMMARY!$J$91 -> 0 | E45: =#REF! -> #REF! | F45: =#REF! -> #REF! | G45: =#REF! -> #REF! | H45: =#REF! -> #REF! | I45: =F45*D45 -> #REF! | J45: =G45*D45 -> #REF! | K45: =H45*D45 -> #REF! | L45: =IF(#REF!<>"",#REF!,"0.00") -> #REF!
B47: =#REF! -> #REF! | C47: =IF(#REF!<>"",#REF!,"0.00") -> #REF! | D47: =SUMMARY!$J$84 -> 0 | E47: =#REF! -> #REF! | F47: =#REF! -> #REF! | G47: =#REF! -> #REF! | H47: =#REF! -> #REF! | I47: =F47*D47 -> #REF! | J47: =G47*D47 -> #REF! | K47: =H47*D47 -> #REF! | L47: =IF(#REF!<>"",#REF!,"0.00") -> #REF!
B48: COP VERSION : 2000
B49: Category of Building | C49: GFA% | D49: 5000m2 £ GFA < 25000m2 | E49: GFA ³25000m2 | F49: Required Scorebetween 5000 and 25000 m2 | G49: Required Score > 25000 m2
B50: Residential landed | C50: =SUMMARY!$I$9/SUMMARY!$G$15 -> #DIV/0! | D50: 52 | E50: 55 | F50: =C50*D50 -> #DIV/0! | G50: =C50*E50 -> #DIV/0!
B51: Residential non-landed | C51: =SUMMARY!$I$10/SUMMARY!$G$15 -> #DIV/0! | D51: 58 | E51: 61 | F51: =C51*D51 -> #DIV/0! | G51: =C51*E51 -> #DIV/0!
B52: Commercial | C52: =SUMMARY!$I$11/SUMMARY!$G$15 -> #DIV/0! | D52: 64 | E52: 68 | F52: =C52*D52 -> #DIV/0! | G52: =C52*E52 -> #DIV/0!
B53: Industrial | C53: =SUMMARY!$I$12/SUMMARY!$G$15 -> #DIV/0! | D53: 67 | E53: 70 | F53: =C53*D53 -> #DIV/0! | G53: =C53*E53 -> #DIV/0!
B54: Institutional | C54: =SUMMARY!$I$13/SUMMARY!$G$15 -> #DIV/0! | D54: 64 | E54: 67 | F54: =C54*D54 -> #DIV/0! | G54: =C54*E54 -> #DIV/0!
C55: =SUM(C50:C54) -> #DIV/0! | F55: =SUM(F50:F54) -> #DIV/0! | G55: =SUM(G50:G54) -> #DIV/0! | I55: =ROUND(IF(GFA< 5000,0, IF(GFA < 25000,F55,G55)),0) -> 0
B59: COP VERSION : 2002
B60: Category | C60: GFA% | D60: 5000 m2 <= GFA < 25000 m2 | E60: GFA >=25000 m2 | F60: Required Scorebetween 5000 and 25000 m2 | G60: Required Score > 25000 m2
B62: Residential (landed) | C62: =SUMMARY!$I$9/SUMMARY!$G$15 -> #DIV/0! | D62: 54 | E62: 57 | F62: =C62*D62 -> #DIV/0! | G62: =C62*E62 -> #DIV/0!
B63: Residential (non - landed) | C63: =SUMMARY!$I$10/SUMMARY!$G$15 -> #DIV/0! | D63: 60 | E63: 63 | F63: =C63*D63 -> #DIV/0! | G63: =C63*E63 -> #DIV/0!
B64: Commercial | C64: =SUMMARY!$I$11/SUMMARY!$G$15 -> #DIV/0! | D64: 67 | E64: 70 | F64: =C64*D64 -> #DIV/0! | G64: =C64*E64 -> #DIV/0!
B65: Industrial | C65: =SUMMARY!$I$12/SUMMARY!$G$15 -> #DIV/0! | D65: 69 | E65: 72 | F65: =C65*D65 -> #DIV/0! | G65: =C65*E65 -> #DIV/0!
B66: Institutions & Others | C66: =SUMMARY!$I$13/SUMMARY!$G$15 -> #DIV/0! | D66: 66 | E66: 69 | F66: =C66*D66 -> #DIV/0! | G66: =C66*E66 -> #DIV/0!
C67: =SUM(C62:C66) -> #DIV/0! | F67: =SUM(F62:F66) -> #DIV/0! | G67: =SUM(G62:G66) -> #DIV/0! | I67: =ROUND(IF(GFA< 5000,0, IF(GFA < 25000,F67, G67)),0) -> 0
B70: COP VERSION : 2004
B71: Category | C71: GFA% | D71: 2000 < GFA < 5000 | E71: 5000 <= GFA < 25000 | F71: GFA >=25000 | G71: Required Score for GFA between 2000 and 5000 | H71: Required Score For GFA between 5000 and 25000 | I71: Required Score For GFA > 25000
B73: Residential (landed) | C73: =SUMMARY!$I$9/SUMMARY!$G$15 -> #DIV/0! | D73: 54 | E73: 56 | F73: 59 | G73: =C73*D73 -> #DIV/0! | H73: =C73*E73 -> #DIV/0! | I73: =C73*F73 -> #DIV/0!
B74: Residential (non - landed) | C74: =SUMMARY!$I$10/SUMMARY!$G$15 -> #DIV/0! | D74: 60 | E74: 62 | F74: 65 | G74: =C74*D74 -> #DIV/0! | H74: =C74*E74 -> #DIV/0! | I74: =C74*F74 -> #DIV/0!
B75: Commercial | C75: =SUMMARY!$I$11/SUMMARY!$G$15 -> #DIV/0! | D75: 62 | E75: 69 | F75: 72 | G75: =C75*D75 -> #DIV/0! | H75: =C75*E75 -> #DIV/0! | I75: =C75*F75 -> #DIV/0!
...

Sheet Template
B2: PART III : COMPUTATION OF BUILDABLE DESIGN SCORE
K3: BS | M3: SS | N3: WS | O3: DfMA | P3: Blk
C4: Project Reference No.: | F4: =SUMMARY!$E$6 -> 0 | M4: =P84 -> 0 | N4: =P194 -> 0 | O4: =P279 -> 0 | P4: =P280 -> 0
C5: Block No./Name : | G5: Template | K5: Please indicate other typical blocks (if any) :
B6: STRUCTURAL SYSTEM | K6: Labour Saving Index (a) | M6: Area (m²) (b) | O6: % Area (c) | P6: Buildable Design Score (a) x (c) x 45
C7: 1 | D7: PRECAST CONCRETE SYSTEM
D8: 1.1 | E8: Full precast | K8: 1 | O8: =IF(M8=0, " ", IF(M8<0,"Error", IF(M8>0,M8/$M$46))) | P8: =IF(M8=0, " ", IF(M8<0,"Error", IF(M8>0,(M8/$M$46)*K8*45))) | T8: =IF(N8<>"",N8,"") | U8: 1.1
D9: 1.2 (a) | E9: Precast column/wall with flat plate and perimeter beams (beam depth £ 600mm) | K9: 0.9 | O9: =IF(M9=0, " ", IF(M9<0,"Error", IF(M9>0,M9/$M$46))) | P9: =IF(M9=0, " ", IF(M9<0,"Error", IF(M9>0,(M9/$M$46)*K9*45))) | T9: =IF(N9<>"",N9,"") | U9: 1.2.1
D10: 1.2 (b) | E10: Precast column/wall with flat plate and perimeter beams (beam depth > 600mm) | K10: 0.8 | O10: =IF(M10=0, " ", IF(M10<0,"Error", IF(M10>0,M10/$M$46))) | P10: =IF(M10=0, " ", IF(M10<0,"Error", IF(M10>0,(M10/$M$46)*K10*45))) | T10: =IF(N10<>"",N10,"") | U10: 1.2.2
D11: 1.3 (a) | E11: Precast column/wall with flat slab and perimeter beams (beam depth £ 600mm) | K11: 0.85 | O11: =IF(M11=0, " ", IF(M11<0,"Error", IF(M11>0,M11/$M$46))) | P11: =IF(M11=0, " ", IF(M11<0,"Error", IF(M11>0,(M11/$M$46)*K11*45))) | T11: =IF(N11<>"",N11,"") | U11: 1.3.1
D12: 1.3 (b) | E12: Precast column/wall with flat slab and perimeter beams (beam depth > 600mm) | K12: 0.75 | O12: =IF(M12=0, " ", IF(M12<0,"Error", IF(M12>0,M12/$M$46))) | P12: =IF(M12=0, " ", IF(M12<0,"Error", IF(M12>0,(M12/$M$46)*K12*45))) | T12: =IF(N12<>"",N12,"") | U12: 1.3.2
D13: 1.4 | E13: Precast beam and precast slab | K13: 0.9 | O13: =IF(M13=0, " ", IF(M13<0,"Error", IF(M13>0,M13/$M$46))) | P13: =IF(M13=0, " ", IF(M13<0,"Error", IF(M13>0,(M13/$M$46)*K13*45))) | T13: =IF(N13<>"",N13,"") | U13: 1.4
D14: 1.5 | E14: Precast beam and precast column/wall | K14: 0.9 | O14: =IF(M14=0, " ", IF(M14<0,"Error", IF(M14>0,M14/$M$46))) | P14: =IF(M14=0, " ", IF(M14<0,"Error", IF(M14>0,(M14/$M$46)*K14*45))) | T14: =IF(N14<>"",N14,"") | U14: 1.5
D15: 1.6 | E15: Precast column/wall and precast slab | K15: 0.9 | O15: =IF(M15=0, " ", IF(M15<0,"Error", IF(M15>0,M15/$M$46))) | P15: =IF(M15=0, " ", IF(M15<0,"Error", IF(M15>0,(M15/$M$46)*K15*45))) | T15: =IF(N15<>"",N15,"") | U15: 1.6
D16: 1.7 | E16: Precast slab only | K16: 0.7 | O16: =IF(M16=0, " ", IF(M16<0,"Error", IF(M16>0,M16/$M$46))) | P16: =IF(M16=0, " ", IF(M16<0,"Error", IF(M16>0,(M16/$M$46)*K16*45))) | T16: =IF(N16<>"",N16,"") | U16: 1.7
D17: 1.8 | E17: Precast column/wall only | K17: 0.7 | O17: =IF(M17=0, " ", IF(M17<0,"Error", IF(M17>0,M17/$M$46))) | P17: =IF(M17=0, " ", IF(M17<0,"Error", IF(M17>0,(M17/$M$46)*K17*45))) | T17: =IF(N17<>"",N17,"") | U17: 1.8
B18: Sub Total Area for Precast Concrete System | M18: =IF(SUM(M8:M17)=0, " ", SUM(M8:M17))
C20: 2 | D20: STRUCTURAL STEEL SYSTEM (applicable only if steel decking or precast slab is adopted) see Note 1
D21: 2.1 | E21: Steel beam and steel column (without concrete encasement) | K21: 1 | O21: =IF(M21=0, " ", IF(M21<0,"Error", IF(M21>0,M21/$M$46))) | P21: =IF(M21=0, " ", IF(M21<0,"Error", IF(M21>0,(M21/$M$46)*K21*45))) | T21: =IF(N21<>"",N21,"") | U21: 2.1
D22: 2.2 | E22: Steel beam and steel column (with concrete encasement) | K22: 0.95 | O22: =IF(M22=0, " ", IF(M22<0,"Error", IF(M22>0,M22/$M$46))) | P22: =IF(M22=0, " ", IF(M22<0,"Error", IF(M22>0,(M22/$M$46)*K22*45))) | T22: =IF(N22<>"",N22,"") | U22: 2.2
B23: Sub Total Area for Structural Steel System | M23: =IF(SUM(M21:M22)=0, " ", SUM(M21:M22))
C25: 3 | D25: CAST IN-SITU SYSTEM
D26: 3.1 (a) | E26: Flat plate with perimeter beams (beam depth £ 600mm) | K26: 0.85 | O26: =IF(M26=0, " ", IF(M26<0,"Error", IF(M26>0,M26/$M$46))) | P26: =IF(M26=0, " ", IF(M26<0,"Error", IF(M26>0,(M26/$M$46)*K26*45))) | T26: =IF(N26<>"",N26,"") | U26: 3.1.1
D27: 3.1 (b) | E27: Flat plate with perimeter beams (beam depth > 600mm) | K27: 0.75 | O27: =IF(M27=0, " ", IF(M27<0,"Error", IF(M27>0,M27/$M$46))) | P27: =IF(M27=0, " ", IF(M27<0,"Error", IF(M27>0,(M27/$M$46)*K27*45))) | T27: =IF(N27<>"",N27,"") | U27: 3.1.2
D28: 3.2 (a) | E28: Flat slab with perimeter beams (beam depth £ 600mm) | K28: 0.8 | O28: =IF(M28=0, " ", IF(M28<0,"Error", IF(M28>0,M28/$M$46))) | P28: =IF(M28=0, " ", IF(M28<0,"Error", IF(M28>0,(M28/$M$46)*K28*45))) | T28: =IF(N28<>"",N28,"") | U28: 3.2.1
D29: 3.2 (b) | E29: Flat slab with perimeter beams (beam depth > 600mm) | K29: 0.7 | O29: =IF(M29=0, " ", IF(M29<0,"Error", IF(M29>0,M29/$M$46))) | P29: =IF(M29=0, " ", IF(M29<0,"Error", IF(M29>0,(M29/$M$46)*K29*45))) | T29: =IF(N29<>"",N29,"") | U29: 3.2.2
D30: 3.3 | E30: One-directional beam | K30: 0.7 | O30: =IF(M30=0, " ", IF(M30<0,"Error", IF(M30>0,M30/$M$46))) | P30: =IF(M30=0, " ", IF(M30<0,"Error", IF(M30>0,(M30/$M$46)*K30*45))) | T30: =IF(N30<>"",N30,"") | U30: 3.3
D31: 3.4 | E31: Two-directional beam | K31: 0.45 | O31: =IF(M31=0, " ", IF(M31<0,"Error", IF(M31>0,M31/$M$46))) | P31: =IF(M31=0, " ", IF(M31<0,"Error", IF(M31>0,(M31/$M$46)*K31*45))) | T31: =IF(N31<>"",N31,"") | U31: 3.4
B32: Sub Total Area for Cast In-Situ System | M32: =IF(SUM(M26:M31)=0, " ", SUM(M26:M31))
C34: 4 | D34: ROOF SYSTEM (for superstructure block only)
D35: 4.1 | E35: Integrated metal roof on steel truss | K35: 1 | O35: =IF(M35=0, " ", IF(M35<0,"Error", IF(M35>0,M35/$M$46))) | P35: =IF(M35=0, " ", IF(M35<0,"Error", IF(M35>0,(M35/$M$46)*K35*45))) | T35: =IF(N35<>"",N35,"") | U35: 4.1
D36: 4.2 | E36: Metal roof on steel truss or timber truss | K36: 0.95 | O36: =IF(M36=0, " ", IF(M36<0,"Error", IF(M36>0,M36/$M$46))) | P36: =IF(M36=0, " ", IF(M36<0,"Error", IF(M36>0,(M36/$M$46)*K36*45))) | T36: =IF(N36<>"",N36,"") | U36: 4.2
D37: 4.3 | E37: Tiled roof on steel beam or precast concrete beam or timber beam | K37: 0.75 | O37: =IF(M37=0, " ", IF(M37<0,"Error", IF(M37>0,M37/$M$46))) | P37: =IF(M37=0, " ", IF(M37<0,"Error", IF(M37>0,(M37/$M$46)*K37*45))) | T37: =IF(N37<>"",N37,"") | U37: 4.3
D38: 4.4 | E38: Metal roof on cast in-situ beam | K38: 0.6 | O38: =IF(M38=0, " ", IF(M38<0,"Error", IF(M38>0,M38/$M$46))) | P38: =IF(M38=0, " ", IF(M38<0,"Error", IF(M38>0,(M38/$M$46)*K38*45))) | T38: =IF(N38<>"",N38,"") | U38: 4.4
D39: 4.5 | E39: Tiled roof with cast in-situ beam | K39: 0.55 | O39: =IF(M39=0, " ", IF(M39<0,"Error", IF(M39>0,M39/$M$46))) | P39: =IF(M39=0, " ", IF(M39<0,"Error", IF(M39>0,(M39/$M$46)*K39*45))) | T39: =IF(N39<>"",N39,"") | U39: 4.5
B40: Sub Total Area for Roof System | M40: =IF(SUM(M35:M39)=0, " ", SUM(M35:M39))
C42: 5 | D42: OTHER STRUCTURAL SYSTEMS NOT LISTED IN BDAS (Please seek BCA’s advice on the LSI before proceeding)
D43: 5.1 | O43: =IF(M43=0, " ", IF(M43<0,"Error", IF(M43>0,M43/$M$46))) | P43: =IF(OR(M43=0, K43=0), " ", IF(M43<0,"Error", IF(M43>0,(M43/$M$46)*K43*45))) | T43: =IF(N43<>"",N43,"") | U43: 5.1
D44: 5.2 | O44: =IF(M44=0, " ", IF(M44<0,"Error", IF(M44>0,M44/$M$46))) | P44: =IF(OR(M44=0, K44=0), " ", IF(M44<0,"Error", IF(M44>0,(M44/$M$46)*K44*45))) | T44: =IF(N44<>"",N44,"") | U44: 5.2
D45: 5.3 | O45: =IF(M45=0, " ", IF(M45<0,"Error", IF(M45>0,M45/$M$46))) | P45: =IF(OR(M45=0, K45=0), " ", IF(M45<0,"Error", IF(M45>0,(M45/$M$46)*K45*45))) | T45: =IF(N45<>"",N45,"") | U45: 5.3
...

Sheet Declaration
C2: SUBMISSION OF AS-BUILT BUILDABLE DESIGN SCORE CALCULATIONS Regulation 13 of the Building Control (Buildability & Productivity) Regulations (Cap.29)
C4: Commissioner of Building Control | K4: INSTRUCTIONS
C5: Building & Construction Authority 52 Jurong Gateway Road #11-01 Singapore 608550 | K5: (1) | L5: Please refer to the Explanatory Notes worksheet before completing these forms, Including adding additional blocks to the project.
K6: (2) | L6: Use a separate set of forms BPD_BS03 for each block of the building in the project.
K7: (3) | L7: *Delete accordingly
K8: (4) | L8: Please Use BLACK INK to complete the form
K9: (4) | L9: Please tick the appropriate boxes.
C11: Section I (To be completed by Qualified Persons)
C13: 1. | D13: Project Reference No. | G13: 0
D15: Description of building works
D18: Location Description
C22: 2. | D22: Please tick one of the following :
C23: (a) | E23: We hereby declare that the buildable design score submitted herewith complies with the minimum as-built buildable design score requirement under the Building Control (Buildability & Productivity) Regulations and the computation of the as-built buildable design score is as stated in Form BPD_BS03. We further declare that the particulars required for this submission and as stated in these forms are correct.
D25: The as-built buildable design score for the superstructure works is | M25: =IF(AND(D23="1",S23>0),S25,0) -> 0 | S25: =SUMMARY!$L$75 -> 0
D26: The as-built buildable design score for the basement works is | M26: =IF(AND(D23="1",S23>0),S26,0) -> 0 | S26: =SUMMARY!$L$100 -> 0
D28: Only for residential non-landed projects with Gross Floor Area (GFA) ≥ 25,000 m2 and with first application for planning permission made on or after 15 December 2019 | T28: Y
C29: (b) | E29: We hereby declare that we are submitting one of the outcome-based proposals (as stated in summary sheet) for the project in lieu of an as-built buildable design score as stated in 2a above.
E30: We hereby accept that the default as-built buildable design score for the project is
D32: The as-built buildable design score for the superstructure works is | M32: =IF(AND(D29="1",S29>0),S32,0) -> 0 | S32: =SUMMARY!$P$22 -> 0
D33: The as-built buildable design score for the basement works is | M33: =IF(AND(D29="1",S29>0),S33,0) -> 0 | S33: =SUMMARY!$P$19 -> 0
D34: Qualified Person for architectural works
D35: QP Name
D36: Firm Name
D37: UEN
D38: Firm Address
D39: Date | I39: (dd/mm/yyyy)
D40: Tel No. | I40: Fax No.
D41: Email Address
D42: Qualified Person for structural works
D43: QP Name
D44: Firm Name
D45: UEN
D46: Firm Address
D47: Date | I47: (dd/mm/yyyy)
D48: Tel No. | I48: Fax No.
D49: Email Address

Sheet Explanatory Notes
B1: Explanatory Notes
B3: Form BPD_BS03
B5: Only one copy of this Form need to be submitted. This form is to be submitted together with TOP/CSC application. All items/blanks must be completed. If an item is not applicable, it should be indicated as "N.A.".
B7: For projects with multiple blocks, please submit 1 copy of the BPD_BS03 for every block.
B9: For additional building blocks, select the SUMMARY sheet. Click the "Add Block" button. Click OK to confirm to add a block.
B11: To delete a building block, click the "Delete Block" button. Enter the sheet name of the block to delete. Click OK to confirm deletion.
B13: Minimum Prefabrication Level for developments sold under Industrial Government Land Sales (IGLS) programme from 1st May 2017.
C15: Minimum Prefabrication Level | E15: 5,000 m2 GFA < 25,000 m2 | G15: GFA 25,000 m2
C16: Structural system in respect of total structural floor area of the building works | E16: 0.25 | G16: 0.4
C17: Wall system in respect of total wall length of the building works | E17: 0.45 | G17: 0.6
B19: Structural System
B20: (1) | C20: At least 80% of the steel reinforcement for composite slab must be welded mesh.
B22: (2) | C22: The use of welded mesh is mandated for all developments where cast in-situ slab has been adopted in the design. The minimum usage of welded mesh must be at least 65% of all cast in-situ slab area.
B24: (3) | C24: For designs of residential non-landed projects that incorporate household shelters, it is mandatory for these household shelters to be precast.
B26: (4) | C26: High strength concrete of at least Grade 70 must be used for at least 5% of the total concrete volume.
B28: (5) | C28: Self-compacting concrete must be used for at least 30% of the total concrete volume.
B30: (6) | C30: Diaphragm wall must be adopted for at least 65% of the permanent retaining wall at basement.
B32: Wall System
B33: (7) | C33: Drywall partition consists of prefabricated boards typically made of gypsum (or other materials such as calcium silicate or fibre-based cement) that are screw-fastened to both sides of a metal stud framing system. No wet trades are involved. The type and number of layers of the boards, and the insulation material within the space formed by the metal framing system are determined by the desired strength, acoustic, fire and other performance criteria required of the partition. For mandatory use of drywall under item 1.1, the drywall used must achieve a performance grading of Severe Duty for strength and robustness.
B35: (8) | C35: Lightweight concrete panels include autoclaved lightweight concrete (ALC) panels, autoclaved aerated concrete (AAC) panels.
B37: (9) | C37: Precision blocks refer to lightweight concrete blocks that have precise dimensions (± 1mm dimensional tolerance) and can be laid on thin bed adhesive mortar.
B39: (10) | C39: The use of brickwall/blockwall, once used, must be indicated and shown under wall system by its wall length. Demerit points for using brickwall/blockwall will be auto-generated under item 14.5 on Demerit Points.
C41: Table A: Direct Points for Designs with High Voids*
C43: Case | D43: Total void height (Only those > 9m) | E43: Points
D44: Total building height
C45: 1 | D45: 0% (no high voids) | E45: 2
C46: 2 | D46: > 0% to < 10% | E46: 1.5
C47: 3 | D47: > 10% to < 15% | E47: 1
C48: 4 | D48: > 15% to < 20% | E48: 0.5
C49: 5 | D49: > 20% | E49: 0
C50: *High voids refer to heights that are more than 9m.
C51: *A design that does not have any void height greater than 9m throughout its building height will get a maximum 2 points.
C53: Table B: Direct Points for Designs with Varying Forms
D55: Scenario | E55: 1 | F55: 2 | G55: 3 | H55: 4
D56: Maximum Offset | E56: NIL | F56: 0 m to < 1 m | G56: 1 m to < 2 m | H56: 2 m to < 3 m
E57: NIL | F57: less than 5% | G57: 5% to < 15% | H57: 15% to < 25%
C58: Height of Building | F58: offset | G58: offset | H58: offset
C59: 0 m to < 15 m | E59: 3 | F59: 3 | G59: 3 | H59: 2.5
C60: 15 m to < 45 m | E60: 3 | F60: 3 | G60: 2.5 | H60: 1.5
C61: 45 m to < 90 m | E61: 3 | F61: 2.5 | G61: 1.5 | H61: 1
...

Sheet SUMMARY
B2: CALCULATIONS OF AS-BUILT BUILDABLE DESIGN SCORE | N2: FOR OFFICIAL USE ONLY :
B3: Regulation 13 of the Building Control (Buildability & Productivity) Regulations (Cap.29) | Y3: 1 | Z3: 1
B4: PART I : PROJECT DETAILS | N4: Please click button to proceed : | Z4: 1
C6: Project Reference No.: | E6: =Declaration!$G$13 -> 0 | K6: 2019 | L6: BS03
C7: For mixed development and A & A project, please indicate the GFA for each category and type of work, where applicable
C8: Please enter the GFA for the development: | G8: New work | H8: Work within existing building
C9: Residential (landed) | H9: m2 | K9: m2 | N9: =IF(F9="RL",G9,0) -> 0 | O9: RL | P9: =IF(I9="RL",J9,0) -> 0 | Q9: RL | R9: =N9+P9 -> 0
C10: Residential (non - landed) | H10: m2 | K10: m2 | N10: =IF(F10="RNL",G10,0) -> 0 | O10: RNL | P10: =IF(I10="RNL",J10,0) -> 0 | Q10: RNL | R10: =N10+P10 -> 0
C11: Commercial | H11: m2 | K11: m2 | N11: =IF(F11="CMM",G11,0) -> 0 | O11: Com | P11: =IF(I11="CMM",J11,0) -> 0 | Q11: Com | R11: =N11+P11 -> 0
C12: Industrial | H12: m2 | K12: m2 | N12: =IF(F12="IND",G12,0) -> 0 | O12: Ind | P12: =IF(I12="IND",J12,0) -> 0 | Q12: Ind | R12: =N12+P12 -> 0
C13: Institutional & Others | H13: m2 | K13: m2 | N13: =IF(F13="OTH",G13,0) -> 0 | O13: Ins | P13: =IF(I13="OTH",J13,0) -> 0 | Q13: Ins | R13: =N13+P13 -> 0
C14: School | H14: m2 | K14: m2 | N14: =IF(F14="Schl",G14,0) -> 0 | O14: Schl | P14: =IF(I14="Schl",J14,0) -> 0 | Q14: Schl | R14: =N14+P14 -> 0
C15: Sub GFA : | G15: =SUM(N9:N14) -> 0 | H15: m2 | J15: =SUM(P9:P14) -> 0 | K15: m2
C16: Total GFA : | G16: =SUM(GFA:J15) -> 0 | H16: m2
C17: Note: New work includes extension/addition outside existing building | O17: 8 | P17: 2
N18: 0 | O18: 8 | P18: 0
C19: Please indicate one of the following (this is a compulsory field): | O19: 8 | P19: 0
D20: 1. The project is submitting the outcome-based proposal below with the default buildable design score (applicable only for residential non-landed projects with GFA ≥ 25,000 m2 and with first application for planning permission made on or after 15 December 2019 only) | O20: 8
D21: (3) The development is a public sector building project by Government Procurement Entities (GPEs) who have taken the lead to meet even higher scores than (2). | O21: 11
D22: (a) ≥ 60% of Prefabricated Prefinished Volumetric Construction (PPVC) | L22: 96 | N22: =IF(C22="96",P22,0) -> 0 | O22: 3 | P22: 0 | Q22: 0
D23: (The PPVC system is accepted by the Building Innovation Panel (BIP) and accredited under the PPVC Manufacturer Accreditation Scheme. The PPVC meets the requirements stipulated in COP 2019)
D24: Description of accepted PPVC system :
D26: or
D28: (b) ≥ 60% of Prefabricated Prefinished Volumetric Construction (PPVC) | L28: 94 | N28: =IF(C28="94",P22,0) -> 0
D29: (The PPVC meets the requirements stipulated in COP 2019)
D31: or
D33: (c) ≥ 65% of prefabricated system and | L33: 92 | N33: =IF(C33="92",P22,0) -> 0
D34: ≥ 70% of system formwork
D36: or
D38: (d) ≥ 50% of prefabricated system, | L38: 92 | N38: =IF(C38="92",P22,0) -> 0
D39: ≥ 70% of system formwork and
D40: ≥ 50% of prefabricated MEP system
D42: or
D44: (e) open option proposal that can achieve minimum 20% productivity improvement from 2010 level | N44: =IF(C44=0,L44,0) -> 0
D45: Note: please consult BCA for the default buildable design score for the proposal
D48: the default buildable design score for basement works (where applicable) | L48: 70 | N48: =IF(C48="70",P22,0) -> 0
B50: OR
D52: 2. The project complies with the minimum buildable design score requirement | N52: =IF(C52="0",P22,0) -> 0
C62: Total no. of blocks : | E62: 1
B64: PART II : THE AS-BUILT BUILDABLE DESIGN SCORE FOR THE SUPERSTRUCTURE WORKS
...

Sheet DataStoreSheet
A1: 1 | B1: 0 | E1: 1 | F1: 0
A2: Duplicate Block No | B2: Duplicate Block Name | C2: Master Sheet Name

Sheet 01
B2: PART III : COMPUTATION OF BUILDABLE DESIGN SCORE
K3: BS | M3: SS | N3: WS | O3: DfMA | P3: Blk
C4: Project Reference No.: | F4: =SUMMARY!$E$6 -> 0 | M4: =P84 -> 0 | N4: =P194 -> 0 | O4: =P279 -> 0 | P4: =P280 -> 0
C5: Block No./Name : | G5: 01 | K5: Please indicate other typical blocks (if any) :
B6: STRUCTURAL SYSTEM | K6: Labour Saving Index (a) | M6: Area (m²) (b) | O6: % Area (c) | P6: Buildable Design Score (a) x (c) x 45
C7: 1 | D7: PRECAST CONCRETE SYSTEM
D8: 1.1 | E8: Full precast | K8: 1 | O8: =IF(M8=0, " ", IF(M8<0,"Error", IF(M8>0,M8/$M$46))) | P8: =IF(M8=0, " ", IF(M8<0,"Error", IF(M8>0,(M8/$M$46)*K8*45))) | T8: =IF(N8<>"",N8,"") | U8: 1.1
D9: 1.2 (a) | E9: Precast column/wall with flat plate and perimeter beams (beam depth £ 600mm) | K9: 0.9 | O9: =IF(M9=0, " ", IF(M9<0,"Error", IF(M9>0,M9/$M$46))) | P9: =IF(M9=0, " ", IF(M9<0,"Error", IF(M9>0,(M9/$M$46)*K9*45))) | T9: =IF(N9<>"",N9,"") | U9: 1.2.1
D10: 1.2 (b) | E10: Precast column/wall with flat plate and perimeter beams (beam depth > 600mm) | K10: 0.8 | O10: =IF(M10=0, " ", IF(M10<0,"Error", IF(M10>0,M10/$M$46))) | P10: =IF(M10=0, " ", IF(M10<0,"Error", IF(M10>0,(M10/$M$46)*K10*45))) | T10: =IF(N10<>"",N10,"") | U10: 1.2.2
D11: 1.3 (a) | E11: Precast column/wall with flat slab and perimeter beams (beam depth £ 600mm) | K11: 0.85 | O11: =IF(M11=0, " ", IF(M11<0,"Error", IF(M11>0,M11/$M$46))) | P11: =IF(M11=0, " ", IF(M11<0,"Error", IF(M11>0,(M11/$M$46)*K11*45))) | T11: =IF(N11<>"",N11,"") | U11: 1.3.1
D12: 1.3 (b) | E12: Precast column/wall with flat slab and perimeter beams (beam depth > 600mm) | K12: 0.75 | O12: =IF(M12=0, " ", IF(M12<0,"Error", IF(M12>0,M12/$M$46))) | P12: =IF(M12=0, " ", IF(M12<0,"Error", IF(M12>0,(M12/$M$46)*K12*45))) | T12: =IF(N12<>"",N12,"") | U12: 1.3.2
D13: 1.4 | E13: Precast beam and precast slab | K13: 0.9 | O13: =IF(M13=0, " ", IF(M13<0,"Error", IF(M13>0,M13/$M$46))) | P13: =IF(M13=0, " ", IF(M13<0,"Error", IF(M13>0,(M13/$M$46)*K13*45))) | T13: =IF(N13<>"",N13,"") | U13: 1.4
D14: 1.5 | E14: Precast beam and precast column/wall | K14: 0.9 | O14: =IF(M14=0, " ", IF(M14<0,"Error", IF(M14>0,M14/$M$46))) | P14: =IF(M14=0, " ", IF(M14<0,"Error", IF(M14>0,(M14/$M$46)*K14*45))) | T14: =IF(N14<>"",N14,"") | U14: 1.5
D15: 1.6 | E15: Precast column/wall and precast slab | K15: 0.9 | O15: =IF(M15=0, " ", IF(M15<0,"Error", IF(M15>0,M15/$M$46))) | P15: =IF(M15=0, " ", IF(M15<0,"Error", IF(M15>0,(M15/$M$46)*K15*45))) | T15: =IF(N15<>"",N15,"") | U15: 1.6
D16: 1.7 | E16: Precast slab only | K16: 0.7 | O16: =IF(M16=0, " ", IF(M16<0,"Error", IF(M16>0,M16/$M$46))) | P16: =IF(M16=0, " ", IF(M16<0,"Error", IF(M16>0,(M16/$M$46)*K16*45))) | T16: =IF(N16<>"",N16,"") | U16: 1.7
D17: 1.8 | E17: Precast column/wall only | K17: 0.7 | O17: =IF(M17=0, " ", IF(M17<0,"Error", IF(M17>0,M17/$M$46))) | P17: =IF(M17=0, " ", IF(M17<0,"Error", IF(M17>0,(M17/$M$46)*K17*45))) | T17: =IF(N17<>"",N17,"") | U17: 1.8
B18: Sub Total Area for Precast Concrete System | M18: =IF(SUM(M8:M17)=0, " ", SUM(M8:M17))
C20: 2 | D20: STRUCTURAL STEEL SYSTEM (applicable only if steel decking or precast slab is adopted) see Note 1
D21: 2.1 | E21: Steel beam and steel column (without concrete encasement) | K21: 1 | O21: =IF(M21=0, " ", IF(M21<0,"Error", IF(M21>0,M21/$M$46))) | P21: =IF(M21=0, " ", IF(M21<0,"Error", IF(M21>0,(M21/$M$46)*K21*45))) | T21: =IF(N21<>"",N21,"") | U21: 2.1
D22: 2.2 | E22: Steel beam and steel column (with concrete encasement) | K22: 0.95 | O22: =IF(M22=0, " ", IF(M22<0,"Error", IF(M22>0,M22/$M$46))) | P22: =IF(M22=0, " ", IF(M22<0,"Error", IF(M22>0,(M22/$M$46)*K22*45))) | T22: =IF(N22<>"",N22,"") | U22: 2.2
B23: Sub Total Area for Structural Steel System | M23: =IF(SUM(M21:M22)=0, " ", SUM(M21:M22))
C25: 3 | D25: CAST IN-SITU SYSTEM
D26: 3.1 (a) | E26: Flat plate with perimeter beams (beam depth £ 600mm) | K26: 0.85 | O26: =IF(M26=0, " ", IF(M26<0,"Error", IF(M26>0,M26/$M$46))) | P26: =IF(M26=0, " ", IF(M26<0,"Error", IF(M26>0,(M26/$M$46)*K26*45))) | T26: =IF(N26<>"",N26,"") | U26: 3.1.1
D27: 3.1 (b) | E27: Flat plate with perimeter beams (beam depth > 600mm) | K27: 0.75 | O27: =IF(M27=0, " ", IF(M27<0,"Error", IF(M27>0,M27/$M$46))) | P27: =IF(M27=0, " ", IF(M27<0,"Error", IF(M27>0,(M27/$M$46)*K27*45))) | T27: =IF(N27<>"",N27,"") | U27: 3.1.2
D28: 3.2 (a) | E28: Flat slab with perimeter beams (beam depth £ 600mm) | K28: 0.8 | O28: =IF(M28=0, " ", IF(M28<0,"Error", IF(M28>0,M28/$M$46))) | P28: =IF(M28=0, " ", IF(M28<0,"Error", IF(M28>0,(M28/$M$46)*K28*45))) | T28: =IF(N28<>"",N28,"") | U28: 3.2.1
D29: 3.2 (b) | E29: Flat slab with perimeter beams (beam depth > 600mm) | K29: 0.7 | O29: =IF(M29=0, " ", IF(M29<0,"Error", IF(M29>0,M29/$M$46))) | P29: =IF(M29=0, " ", IF(M29<0,"Error", IF(M29>0,(M29/$M$46)*K29*45))) | T29: =IF(N29<>"",N29,"") | U29: 3.2.2
D30: 3.3 | E30: One-directional beam | K30: 0.7 | O30: =IF(M30=0, " ", IF(M30<0,"Error", IF(M30>0,M30/$M$46))) | P30: =IF(M30=0, " ", IF(M30<0,"Error", IF(M30>0,(M30/$M$46)*K30*45))) | T30: =IF(N30<>"",N30,"") | U30: 3.3
D31: 3.4 | E31: Two-directional beam | K31: 0.45 | O31: =IF(M31=0, " ", IF(M31<0,"Error", IF(M31>0,M31/$M$46))) | P31: =IF(M31=0, " ", IF(M31<0,"Error", IF(M31>0,(M31/$M$46)*K31*45))) | T31: =IF(N31<>"",N31,"") | U31: 3.4
B32: Sub Total Area for Cast In-Situ System | M32: =IF(SUM(M26:M31)=0, " ", SUM(M26:M31))
C34: 4 | D34: ROOF SYSTEM (for superstructure block only)
D35: 4.1 | E35: Integrated metal roof on steel truss | K35: 1 | O35: =IF(M35=0, " ", IF(M35<0,"Error", IF(M35>0,M35/$M$46))) | P35: =IF(M35=0, " ", IF(M35<0,"Error", IF(M35>0,(M35/$M$46)*K35*45))) | T35: =IF(N35<>"",N35,"") | U35: 4.1
D36: 4.2 | E36: Metal roof on steel truss or timber truss | K36: 0.95 | O36: =IF(M36=0, " ", IF(M36<0,"Error", IF(M36>0,M36/$M$46))) | P36: =IF(M36=0, " ", IF(M36<0,"Error", IF(M36>0,(M36/$M$46)*K36*45))) | T36: =IF(N36<>"",N36,"") | U36: 4.2
D37: 4.3 | E37: Tiled roof on steel beam or precast concrete beam or timber beam | K37: 0.75 | O37: =IF(M37=0, " ", IF(M37<0,"Error", IF(M37>0,M37/$M$46))) | P37: =IF(M37=0, " ", IF(M37<0,"Error", IF(M37>0,(M37/$M$46)*K37*45))) | T37: =IF(N37<>"",N37,"") | U37: 4.3
D38: 4.4 | E38: Metal roof on cast in-situ beam | K38: 0.6 | O38: =IF(M38=0, " ", IF(M38<0,"Error", IF(M38>0,M38/$M$46))) | P38: =IF(M38=0, " ", IF(M38<0,"Error", IF(M38>0,(M38/$M$46)*K38*45))) | T38: =IF(N38<>"",N38,"") | U38: 4.4
D39: 4.5 | E39: Tiled roof with cast in-situ beam | K39: 0.55 | O39: =IF(M39=0, " ", IF(M39<0,"Error", IF(M39>0,M39/$M$46))) | P39: =IF(M39=0, " ", IF(M39<0,"Error", IF(M39>0,(M39/$M$46)*K39*45))) | T39: =IF(N39<>"",N39,"") | U39: 4.5
B40: Sub Total Area for Roof System | M40: =IF(SUM(M35:M39)=0, " ", SUM(M35:M39))
C42: 5 | D42: OTHER STRUCTURAL SYSTEMS NOT LISTED IN BDAS (Please seek BCA’s advice on the LSI before proceeding)
D43: 5.1 | O43: =IF(M43=0, " ", IF(M43<0,"Error", IF(M43>0,M43/$M$46))) | P43: =IF(OR(M43=0, K43=0), " ", IF(M43<0,"Error", IF(M43>0,(M43/$M$46)*K43*45))) | T43: =IF(N43<>"",N43,"") | U43: 5.1
D44: 5.2 | O44: =IF(M44=0, " ", IF(M44<0,"Error", IF(M44>0,M44/$M$46))) | P44: =IF(OR(M44=0, K44=0), " ", IF(M44<0,"Error", IF(M44>0,(M44/$M$46)*K44*45))) | T44: =IF(N44<>"",N44,"") | U44: 5.2
D45: 5.3 | O45: =IF(M45=0, " ", IF(M45<0,"Error", IF(M45>0,M45/$M$46))) | P45: =IF(OR(M45=0, K45=0), " ", IF(M45<0,"Error", IF(M45>0,(M45/$M$46)*K45*45))) | T45: =IF(N45<>"",N45,"") | U45: 5.3
...

Sheet B01
B2: PART III : COMPUTATION OF BUILDABLE DESIGN SCORE
K3: BS | M3: SS | N3: WS | O3: DfMA | P3: Blk
C4: Project Reference No.: | F4: =SUMMARY!$E$6 -> 0 | M4: =P84 -> 0 | N4: =P194 -> 0 | O4: =P279 -> 0 | P4: =P280 -> 0
C5: Block No./Name : | G5: B01 | K5: Please indicate other typical blocks (if any) :
B6: STRUCTURAL SYSTEM | K6: Labour Saving Index (a) | M6: Area (m²) (b) | O6: % Area (c) | P6: Buildable Design Score (a) x (c) x 45
C7: 1 | D7: PRECAST CONCRETE SYSTEM
D8: 1.1 | E8: Full precast | K8: 1 | O8: =IF(M8=0, " ", IF(M8<0,"Error", IF(M8>0,M8/$M$46))) | P8: =IF(M8=0, " ", IF(M8<0,"Error", IF(M8>0,(M8/$M$46)*K8*45))) | T8: =IF(N8<>"",N8,"") | U8: 1.1
D9: 1.2 (a) | E9: Precast column/wall with flat plate and perimeter beams (beam depth £ 600mm) | K9: 0.9 | O9: =IF(M9=0, " ", IF(M9<0,"Error", IF(M9>0,M9/$M$46))) | P9: =IF(M9=0, " ", IF(M9<0,"Error", IF(M9>0,(M9/$M$46)*K9*45))) | T9: =IF(N9<>"",N9,"") | U9: 1.2.1
D10: 1.2 (b) | E10: Precast column/wall with flat plate and perimeter beams (beam depth > 600mm) | K10: 0.8 | O10: =IF(M10=0, " ", IF(M10<0,"Error", IF(M10>0,M10/$M$46))) | P10: =IF(M10=0, " ", IF(M10<0,"Error", IF(M10>0,(M10/$M$46)*K10*45))) | T10: =IF(N10<>"",N10,"") | U10: 1.2.2
D11: 1.3 (a) | E11: Precast column/wall with flat slab and perimeter beams (beam depth £ 600mm) | K11: 0.85 | O11: =IF(M11=0, " ", IF(M11<0,"Error", IF(M11>0,M11/$M$46))) | P11: =IF(M11=0, " ", IF(M11<0,"Error", IF(M11>0,(M11/$M$46)*K11*45))) | T11: =IF(N11<>"",N11,"") | U11: 1.3.1
D12: 1.3 (b) | E12: Precast column/wall with flat slab and perimeter beams (beam depth > 600mm) | K12: 0.75 | O12: =IF(M12=0, " ", IF(M12<0,"Error", IF(M12>0,M12/$M$46))) | P12: =IF(M12=0, " ", IF(M12<0,"Error", IF(M12>0,(M12/$M$46)*K12*45))) | T12: =IF(N12<>"",N12,"") | U12: 1.3.2
D13: 1.4 | E13: Precast beam and precast slab | K13: 0.9 | O13: =IF(M13=0, " ", IF(M13<0,"Error", IF(M13>0,M13/$M$46))) | P13: =IF(M13=0, " ", IF(M13<0,"Error", IF(M13>0,(M13/$M$46)*K13*45))) | T13: =IF(N13<>"",N13,"") | U13: 1.4
D14: 1.5 | E14: Precast beam and precast column/wall | K14: 0.9 | O14: =IF(M14=0, " ", IF(M14<0,"Error", IF(M14>0,M14/$M$46))) | P14: =IF(M14=0, " ", IF(M14<0,"Error", IF(M14>0,(M14/$M$46)*K14*45))) | T14: =IF(N14<>"",N14,"") | U14: 1.5
D15: 1.6 | E15: Precast column/wall and precast slab | K15: 0.9 | O15: =IF(M15=0, " ", IF(M15<0,"Error", IF(M15>0,M15/$M$46))) | P15: =IF(M15=0, " ", IF(M15<0,"Error", IF(M15>0,(M15/$M$46)*K15*45))) | T15: =IF(N15<>"",N15,"") | U15: 1.6
D16: 1.7 | E16: Precast slab only | K16: 0.7 | O16: =IF(M16=0, " ", IF(M16<0,"Error", IF(M16>0,M16/$M$46))) | P16: =IF(M16=0, " ", IF(M16<0,"Error", IF(M16>0,(M16/$M$46)*K16*45))) | T16: =IF(N16<>"",N16,"") | U16: 1.7
D17: 1.8 | E17: Precast column/wall only | K17: 0.7 | O17: =IF(M17=0, " ", IF(M17<0,"Error", IF(M17>0,M17/$M$46))) | P17: =IF(M17=0, " ", IF(M17<0,"Error", IF(M17>0,(M17/$M$46)*K17*45))) | T17: =IF(N17<>"",N17,"") | U17: 1.8
B18: Sub Total Area for Precast Concrete System | M18: =IF(SUM(M8:M17)=0, " ", SUM(M8:M17))
C20: 2 | D20: STRUCTURAL STEEL SYSTEM (applicable only if steel decking or precast slab is adopted) see Note 1
D21: 2.1 | E21: Steel beam and steel column (without concrete encasement) | K21: 1 | O21: =IF(M21=0, " ", IF(M21<0,"Error", IF(M21>0,M21/$M$46))) | P21: =IF(M21=0, " ", IF(M21<0,"Error", IF(M21>0,(M21/$M$46)*K21*45))) | T21: =IF(N21<>"",N21,"") | U21: 2.1
D22: 2.2 | E22: Steel beam and steel column (with concrete encasement) | K22: 0.95 | O22: =IF(M22=0, " ", IF(M22<0,"Error", IF(M22>0,M22/$M$46))) | P22: =IF(M22=0, " ", IF(M22<0,"Error", IF(M22>0,(M22/$M$46)*K22*45))) | T22: =IF(N22<>"",N22,"") | U22: 2.2
B23: Sub Total Area for Structural Steel System | M23: =IF(SUM(M21:M22)=0, " ", SUM(M21:M22))
C25: 3 | D25: CAST IN-SITU SYSTEM
D26: 3.1 (a) | E26: Flat plate with perimeter beams (beam depth £ 600mm) | K26: 0.85 | O26: =IF(M26=0, " ", IF(M26<0,"Error", IF(M26>0,M26/$M$46))) | P26: =IF(M26=0, " ", IF(M26<0,"Error", IF(M26>0,(M26/$M$46)*K26*45))) | T26: =IF(N26<>"",N26,"") | U26: 3.1.1
D27: 3.1 (b) | E27: Flat plate with perimeter beams (beam depth > 600mm) | K27: 0.75 | O27: =IF(M27=0, " ", IF(M27<0,"Error", IF(M27>0,M27/$M$46))) | P27: =IF(M27=0, " ", IF(M27<0,"Error", IF(M27>0,(M27/$M$46)*K27*45))) | T27: =IF(N27<>"",N27,"") | U27: 3.1.2
D28: 3.2 (a) | E28: Flat slab with perimeter beams (beam depth £ 600mm) | K28: 0.8 | O28: =IF(M28=0, " ", IF(M28<0,"Error", IF(M28>0,M28/$M$46))) | P28: =IF(M28=0, " ", IF(M28<0,"Error", IF(M28>0,(M28/$M$46)*K28*45))) | T28: =IF(N28<>"",N28,"") | U28: 3.2.1
D29: 3.2 (b) | E29: Flat slab with perimeter beams (beam depth > 600mm) | K29: 0.7 | O29: =IF(M29=0, " ", IF(M29<0,"Error", IF(M29>0,M29/$M$46))) | P29: =IF(M29=0, " ", IF(M29<0,"Error", IF(M29>0,(M29/$M$46)*K29*45))) | T29: =IF(N29<>"",N29,"") | U29: 3.2.2
D30: 3.3 | E30: One-directional beam | K30: 0.7 | O30: =IF(M30=0, " ", IF(M30<0,"Error", IF(M30>0,M30/$M$46))) | P30: =IF(M30=0, " ", IF(M30<0,"Error", IF(M30>0,(M30/$M$46)*K30*45))) | T30: =IF(N30<>"",N30,"") | U30: 3.3
D31: 3.4 | E31: Two-directional beam | K31: 0.45 | O31: =IF(M31=0, " ", IF(M31<0,"Error", IF(M31>0,M31/$M$46))) | P31: =IF(M31=0, " ", IF(M31<0,"Error", IF(M31>0,(M31/$M$46)*K31*45))) | T31: =IF(N31<>"",N31,"") | U31: 3.4
B32: Sub Total Area for Cast In-Situ System | M32: =IF(SUM(M26:M31)=0, " ", SUM(M26:M31))
C34: 4 | D34: ROOF SYSTEM (for superstructure block only)
D35: 4.1 | E35: Integrated metal roof on steel truss | K35: 1 | O35: =IF(M35=0, " ", IF(M35<0,"Error", IF(M35>0,M35/$M$46))) | P35: =IF(M35=0, " ", IF(M35<0,"Error", IF(M35>0,(M35/$M$46)*K35*45))) | T35: =IF(N35<>"",N35,"") | U35: 4.1
D36: 4.2 | E36: Metal roof on steel truss or timber truss | K36: 0.95 | O36: =IF(M36=0, " ", IF(M36<0,"Error", IF(M36>0,M36/$M$46))) | P36: =IF(M36=0, " ", IF(M36<0,"Error", IF(M36>0,(M36/$M$46)*K36*45))) | T36: =IF(N36<>"",N36,"") | U36: 4.2
D37: 4.3 | E37: Tiled roof on steel beam or precast concrete beam or timber beam | K37: 0.75 | O37: =IF(M37=0, " ", IF(M37<0,"Error", IF(M37>0,M37/$M$46))) | P37: =IF(M37=0, " ", IF(M37<0,"Error", IF(M37>0,(M37/$M$46)*K37*45))) | T37: =IF(N37<>"",N37,"") | U37: 4.3
D38: 4.4 | E38: Metal roof on cast in-situ beam | K38: 0.6 | O38: =IF(M38=0, " ", IF(M38<0,"Error", IF(M38>0,M38/$M$46))) | P38: =IF(M38=0, " ", IF(M38<0,"Error", IF(M38>0,(M38/$M$46)*K38*45))) | T38: =IF(N38<>"",N38,"") | U38: 4.4
D39: 4.5 | E39: Tiled roof with cast in-situ beam | K39: 0.55 | O39: =IF(M39=0, " ", IF(M39<0,"Error", IF(M39>0,M39/$M$46))) | P39: =IF(M39=0, " ", IF(M39<0,"Error", IF(M39>0,(M39/$M$46)*K39*45))) | T39: =IF(N39<>"",N39,"") | U39: 4.5
B40: Sub Total Area for Roof System | M40: =IF(SUM(M35:M39)=0, " ", SUM(M35:M39))
C42: 5 | D42: OTHER STRUCTURAL SYSTEMS NOT LISTED IN BDAS (Please seek BCA’s advice on the LSI before proceeding)
D43: 5.1 | O43: =IF(M43=0, " ", IF(M43<0,"Error", IF(M43>0,M43/$M$46))) | P43: =IF(OR(M43=0, K43=0), " ", IF(M43<0,"Error", IF(M43>0,(M43/$M$46)*K43*45))) | T43: =IF(N43<>"",N43,"") | U43: 5.1
D44: 5.2 | O44: =IF(M44=0, " ", IF(M44<0,"Error", IF(M44>0,M44/$M$46))) | P44: =IF(OR(M44=0, K44=0), " ", IF(M44<0,"Error", IF(M44>0,(M44/$M$46)*K44*45))) | T44: =IF(N44<>"",N44,"") | U44: 5.2
D45: 5.3 | O45: =IF(M45=0, " ", IF(M45<0,"Error", IF(M45>0,M45/$M$46))) | P45: =IF(OR(M45=0, K45=0), " ", IF(M45<0,"Error", IF(M45>0,(M45/$M$46)*K45*45))) | T45: =IF(N45<>"",N45,"") | U45: 5.3
...
